BEGIN:VCALENDAR
VERSION:2.0
PRODID:-//Organic Farmers Association - ECPv6.15.20//NONSGML v1.0//EN
CALSCALE:GREGORIAN
METHOD:PUBLISH
X-ORIGINAL-URL:https://organicfarmersassociation.org
X-WR-CALDESC:Events for Organic Farmers Association
REFRESH-INTERVAL;VALUE=DURATION:PT1H
X-Robots-Tag:noindex
X-PUBLISHED-TTL:PT1H
BEGIN:VTIMEZONE
TZID:America/New_York
BEGIN:DAYLIGHT
TZOFFSETFROM:-0500
TZOFFSETTO:-0400
TZNAME:EDT
DTSTART:20250309T070000
END:DAYLIGHT
BEGIN:STANDARD
TZOFFSETFROM:-0400
TZOFFSETTO:-0500
TZNAME:EST
DTSTART:20251102T060000
END:STANDARD
BEGIN:DAYLIGHT
TZOFFSETFROM:-0500
TZOFFSETTO:-0400
TZNAME:EDT
DTSTART:20260308T070000
END:DAYLIGHT
BEGIN:STANDARD
TZOFFSETFROM:-0400
TZOFFSETTO:-0500
TZNAME:EST
DTSTART:20261101T060000
END:STANDARD
BEGIN:DAYLIGHT
TZOFFSETFROM:-0500
TZOFFSETTO:-0400
TZNAME:EDT
DTSTART:20270314T070000
END:DAYLIGHT
BEGIN:STANDARD
TZOFFSETFROM:-0400
TZOFFSETTO:-0500
TZNAME:EST
DTSTART:20271107T060000
END:STANDARD
END:VTIMEZONE
BEGIN:VEVENT
DTSTART;TZID=America/New_York:20260423T120000
DTEND;TZID=America/New_York:20260423T160000
DTSTAMP:20260423T230725
CREATED:20260323T172006Z
LAST-MODIFIED:20260323T172006Z
UID:10000624-1776945600-1776960000@organicfarmersassociation.org
SUMMARY:Virtual Buyer-Seller Mixers
DESCRIPTION:Our interactive virtual mixers target diverse organic and transitional grain products\, including pulses\, small and alternative grains\, and feed-grade ingredients. Participants will connect for 20-minute meetings in a private virtual meeting room to discuss sourcing needs and discover new business opportunities within the supply chain. \nVirtual Mixers create a unique and engaging space for discovery within the organic marketplace\, thereby facilitating the development of meaningful connections across the organic supply chain. Buyers and sellers will register for individual mixers based on the specific type of grain. Our team will facilitate connections between buyers and sellers and ensure participants have the opportunity to connect in 20-minute virtual sessions with buyers or sellers based on mutually-aligned needs and geography.
URL:https://organicfarmersassociation.org/event/virtual-buyer-seller-mixers/2026-04-23/
LOCATION:Virtual
CATEGORIES:Education/Conference
ATTACH;FMTTYPE=image/jpeg:https://organicfarmersassociation.org/wp-content/uploads/2026/03/OTAbuyerseller26.jpg
END:VEVENT
END:VCALENDAR